BEGIN:VCALENDAR
VERSION:2.0
PRODID:-//First Presbyterian Charlotte - ECPv6.15.20//NONSGML v1.0//EN
CALSCALE:GREGORIAN
METHOD:PUBLISH
X-WR-CALNAME:First Presbyterian Charlotte
X-ORIGINAL-URL:https://firstpres-charlotte.org
X-WR-CALDESC:Events for First Presbyterian Charlotte
REFRESH-INTERVAL;VALUE=DURATION:PT1H
X-Robots-Tag:noindex
X-PUBLISHED-TTL:PT1H
BEGIN:VTIMEZONE
TZID:America/New_York
BEGIN:DAYLIGHT
TZOFFSETFROM:-0500
TZOFFSETTO:-0400
TZNAME:EDT
DTSTART:20250309T070000
END:DAYLIGHT
BEGIN:STANDARD
TZOFFSETFROM:-0400
TZOFFSETTO:-0500
TZNAME:EST
DTSTART:20251102T060000
END:STANDARD
BEGIN:DAYLIGHT
TZOFFSETFROM:-0500
TZOFFSETTO:-0400
TZNAME:EDT
DTSTART:20260308T070000
END:DAYLIGHT
BEGIN:STANDARD
TZOFFSETFROM:-0400
TZOFFSETTO:-0500
TZNAME:EST
DTSTART:20261101T060000
END:STANDARD
BEGIN:DAYLIGHT
TZOFFSETFROM:-0500
TZOFFSETTO:-0400
TZNAME:EDT
DTSTART:20270314T070000
END:DAYLIGHT
BEGIN:STANDARD
TZOFFSETFROM:-0400
TZOFFSETTO:-0500
TZNAME:EST
DTSTART:20271107T060000
END:STANDARD
END:VTIMEZONE
BEGIN:VEVENT
DTSTART;TZID=America/New_York:20260507T173000
DTEND;TZID=America/New_York:20260507T190000
DTSTAMP:20260423T194647
CREATED:20260327T160006Z
LAST-MODIFIED:20260327T160006Z
UID:73597-1778175000-1778180400@firstpres-charlotte.org
SUMMARY:PW Birthday Dinner
DESCRIPTION:Hey ladies—you’re invited to the Presbyterian Women’s Birthday Dinner! Join us on Wednesday\, May 7 at 5:30 p.m. as we celebrate the past year and look ahead with joy and anticipation. The evening begins with drinks in the courtyard\, followed by a festive dinner and program in Wood Fellowship Hall. The night will include remarks from our moderator\, the installation of new officers\, and the presentation of Honorary Life Memberships—a special honor given to women who have made a deep and lasting impact on our church.\n\n\n\nThis year’s meal will be a salad bar with lemon garlic chicken\, Mediterranean-style salmon\, shrimp pasta\, roasted veggies\, fruit salad\, hummus with pita bread\, croutons\, cheese\, and homemade dressings. Dessert options include a lemon-and-cream-layered shortbread cake and a black-tie mousse cake. Please come celebrate with us!
URL:https://firstpres-charlotte.org/events/pw-birthday-dinner/
LOCATION:Wood Fellowship Hall
CATEGORIES:Adults,Churchwide,Featured
ATTACH;FMTTYPE=image/png:https://firstpres-charlotte.org/wp-content/uploads/2026/03/PW-Birthday-V3.png
ORGANIZER;CN="Presbyterian Women":MAILTO:lrussell@firstpres-charlotte.org
END:VEVENT
END:VCALENDAR