BEGIN:VCALENDAR
VERSION:2.0
PRODID:-//First Presbyterian Charlotte - ECPv6.15.20//NONSGML v1.0//EN
CALSCALE:GREGORIAN
METHOD:PUBLISH
X-ORIGINAL-URL:https://firstpres-charlotte.org
X-WR-CALDESC:Events for First Presbyterian Charlotte
REFRESH-INTERVAL;VALUE=DURATION:PT1H
X-Robots-Tag:noindex
X-PUBLISHED-TTL:PT1H
BEGIN:VTIMEZONE
TZID:America/New_York
BEGIN:DAYLIGHT
TZOFFSETFROM:-0500
TZOFFSETTO:-0400
TZNAME:EDT
DTSTART:20250309T070000
END:DAYLIGHT
BEGIN:STANDARD
TZOFFSETFROM:-0400
TZOFFSETTO:-0500
TZNAME:EST
DTSTART:20251102T060000
END:STANDARD
BEGIN:DAYLIGHT
TZOFFSETFROM:-0500
TZOFFSETTO:-0400
TZNAME:EDT
DTSTART:20260308T070000
END:DAYLIGHT
BEGIN:STANDARD
TZOFFSETFROM:-0400
TZOFFSETTO:-0500
TZNAME:EST
DTSTART:20261101T060000
END:STANDARD
BEGIN:DAYLIGHT
TZOFFSETFROM:-0500
TZOFFSETTO:-0400
TZNAME:EDT
DTSTART:20270314T070000
END:DAYLIGHT
BEGIN:STANDARD
TZOFFSETFROM:-0400
TZOFFSETTO:-0500
TZNAME:EST
DTSTART:20271107T060000
END:STANDARD
END:VTIMEZONE
BEGIN:VEVENT
DTSTART;TZID=America/New_York:20260426T110000
DTEND;TZID=America/New_York:20260426T120000
DTSTAMP:20260423T195157
CREATED:20260416T012618Z
LAST-MODIFIED:20260416T012712Z
UID:73747-1777201200-1777204800@firstpres-charlotte.org
SUMMARY:Youth Sunday
DESCRIPTION:On Youth Sunday\, our youth will lead the 11 a.m. worship service\, exploring what it looks like to choose love every time\, especially when it’s hard. \nWe will also recognize four youth who have proclaimed their faith and chosen to become members of the church!
URL:https://firstpres-charlotte.org/events/youth-sunday/
LOCATION:Sanctuary
CATEGORIES:Churchwide,Featured,Youth
ATTACH;FMTTYPE=image/png:https://firstpres-charlotte.org/wp-content/uploads/2026/04/Youth-Sunday-2026-Flatscreen.png
END:VEVENT
BEGIN:VEVENT
DTSTART;VALUE=DATE:20260501
DTEND;VALUE=DATE:20260504
DTSTAMP:20260423T195157
CREATED:20251208T164717Z
LAST-MODIFIED:20260331T145826Z
UID:72332-1777593600-1777852799@firstpres-charlotte.org
SUMMARY:Women's Retreat
DESCRIPTION:Pack your comfy clothes\, your hiking shoes\, and your favorite mug—we’re heading back to the mountains! Join the women of First Presbyterian Church for a weekend of rest\, laughter\, and renewal at beautiful Montreat Conference Center\, May 1–3\, 2026. Hosted by Presbyterian Women\, this retreat is a chance to step away from your everyday routine and make space for God\, yourself\, and one another. \nWe’re especially excited to welcome back The Rev. Christopher Edmonston\, a former FPC associate pastor. Christopher is a gifted preacher\, teacher\, and retreat leader—and a dear friend to many at First Presbyterian. He’ll guide us through meaningful times of study and conversation as we grow together in faith. \nIn between sessions\, you’ll have plenty of time to wander the Black Mountain shops\, join a hike\, read by the lake\, or simply sit and visit with friends. New this year\, Friday and Saturday dinners will be catered by Red Radish and Ole Guacamole\, so all you have to do is show up and enjoy. \nChoose what works best for you: \n\n\nDouble room: $230 per person \n\n\nSingle room: $355 \n\n\n(Cost includes lodging\, meals\, program\, and fees.) \nRegistration opens January 8 and closes January 30. Space is limited\, and a waitlist will be created once all rooms are filled. \nWe never want cost to be the reason someone doesn’t come. Financial support is available—contact Rev. Anna Dickson to learn more.
URL:https://firstpres-charlotte.org/events/womens-retreat/
LOCATION:Montreat Conference Center\, 401 Assembly Dr\, Montreat\, NC\, 28757\, United States
CATEGORIES:Adults,Churchwide,Featured
ATTACH;FMTTYPE=image/jpeg:https://firstpres-charlotte.org/wp-content/uploads/2025/12/IMG_6043-Copy-scaled-e1765212378882.jpg
ORGANIZER;CN="Presbyterian Women":MAILTO:lrussell@firstpres-charlotte.org
END:VEVENT
BEGIN:VEVENT
DTSTART;TZID=America/New_York:20260503T094500
DTEND;TZID=America/New_York:20260503T104500
DTSTAMP:20260423T195157
CREATED:20260106T193850Z
LAST-MODIFIED:20260106T193850Z
UID:72635-1777801500-1777805100@firstpres-charlotte.org
SUMMARY:Youth Sunday School
DESCRIPTION:
URL:https://firstpres-charlotte.org/events/youth-sunday-school-14/
LOCATION:First Presbyterian Church\, 200 W Trade St\, Charlotte\, NC\, 28202\, United States
CATEGORIES:Youth
ATTACH;FMTTYPE=image/png:https://firstpres-charlotte.org/wp-content/uploads/2026/01/Youth-Sunday-School-Logo.png
ORGANIZER;CN="Kelly Harder":MAILTO:kharder@firstpres-charlotte.org
END:VEVENT
BEGIN:VEVENT
DTSTART;TZID=America/New_York:20260507T173000
DTEND;TZID=America/New_York:20260507T190000
DTSTAMP:20260423T195157
CREATED:20260327T160006Z
LAST-MODIFIED:20260327T160006Z
UID:73597-1778175000-1778180400@firstpres-charlotte.org
SUMMARY:PW Birthday Dinner
DESCRIPTION:Hey ladies—you’re invited to the Presbyterian Women’s Birthday Dinner! Join us on Wednesday\, May 7 at 5:30 p.m. as we celebrate the past year and look ahead with joy and anticipation. The evening begins with drinks in the courtyard\, followed by a festive dinner and program in Wood Fellowship Hall. The night will include remarks from our moderator\, the installation of new officers\, and the presentation of Honorary Life Memberships—a special honor given to women who have made a deep and lasting impact on our church.\n\n\n\nThis year’s meal will be a salad bar with lemon garlic chicken\, Mediterranean-style salmon\, shrimp pasta\, roasted veggies\, fruit salad\, hummus with pita bread\, croutons\, cheese\, and homemade dressings. Dessert options include a lemon-and-cream-layered shortbread cake and a black-tie mousse cake. Please come celebrate with us!
URL:https://firstpres-charlotte.org/events/pw-birthday-dinner/
LOCATION:Wood Fellowship Hall
CATEGORIES:Adults,Churchwide,Featured
ATTACH;FMTTYPE=image/png:https://firstpres-charlotte.org/wp-content/uploads/2026/03/PW-Birthday-V3.png
ORGANIZER;CN="Presbyterian Women":MAILTO:lrussell@firstpres-charlotte.org
END:VEVENT
BEGIN:VEVENT
DTSTART;TZID=America/New_York:20260607T120000
DTEND;TZID=America/New_York:20260607T133000
DTSTAMP:20260423T195157
CREATED:20260403T162710Z
LAST-MODIFIED:20260403T162710Z
UID:73681-1780833600-1780839000@firstpres-charlotte.org
SUMMARY:All-Ages Playdate
DESCRIPTION:This event was originally scheduled for April 19\, but has been moved to June 7 to coincide with the Spring Luncheon (registration coming soon). \nSave the date! While lunch will be held in the Fellowship Hall\, the fun will continue outdoors! Burn off some energy at our All-Ages Playdate on the front lawn—complete with bounce houses\, lawn games\, and plenty of fun!
URL:https://firstpres-charlotte.org/events/all-ages-playdate/
LOCATION:Front Lawn
CATEGORIES:Children,Youth
ATTACH;FMTTYPE=image/png:https://firstpres-charlotte.org/wp-content/uploads/2026/04/Playdate-Graphic.png
END:VEVENT
BEGIN:VEVENT
DTSTART;TZID=America/New_York:20260720T090000
DTEND;TZID=America/New_York:20260722T113000
DTSTAMP:20260423T195157
CREATED:20260407T132323Z
LAST-MODIFIED:20260423T142128Z
UID:73698-1784538000-1784719800@firstpres-charlotte.org
SUMMARY:Grands Camp
DESCRIPTION:Is there anything better than making memories with the grandkids? Grands Camp is a three-morning event designed to bring grandparents and grandchildren together to share stories\, creativity\, and the love of God. Structured like an all-ages Vacation Bible School\, each morning is filled with Bible stories\, art projects\, music\, service activities\, snacks\, and plenty of space to play. Activities are thoughtfully designed to engage every learner\, from Pre-K through 5th grade. \nThe cost is $25 per family. We suggest no more than two children per adult\, and “grandparent” is a broad and welcoming term here. Any loving adult bringing kids along is exactly who we had in mind! \nChildren must be at least 3 years old to participate. 
URL:https://firstpres-charlotte.org/events/grands-camp/
CATEGORIES:Children,Churchwide,Featured
ATTACH;FMTTYPE=image/png:https://firstpres-charlotte.org/wp-content/uploads/2026/04/Grands-Camp-2026-SD-Title-Slide-1280x720-1.png
END:VEVENT
BEGIN:VEVENT
DTSTART;TZID=America/New_York:20260803T090000
DTEND;TZID=America/New_York:20260807T130000
DTSTAMP:20260423T195157
CREATED:20260216T133334Z
LAST-MODIFIED:20260302T233515Z
UID:72900-1785747600-1786107600@firstpres-charlotte.org
SUMMARY:Vacation Bible School
DESCRIPTION:Join us for a Great Big Adventure! \nFrom August 3–7\, step into a world of wonder as our church is transformed into a lush\, vibrant rainforest! Children will be immersed in the nature of God and the joy of faith through Bible stories\, song\, movement\, and fellowship. \nRegistration Details: \n\nAges: 3 years old (as of Aug. 31\, 2026 and fully potty trained) through rising 5th graders.\nPriority Registration: Opens February 15–22 for First Presbyterian Church families.\nCommunity Registration: Opens February 23 for the community at large (as space allows).\n\nSpace is limited\, so dive into the adventure today!
URL:https://firstpres-charlotte.org/events/vacation-bible-school/
LOCATION:First Presbyterian Church\, 200 W Trade St\, Charlotte\, NC\, 28202\, United States
CATEGORIES:Children,Churchwide,Featured
ATTACH;FMTTYPE=image/jpeg:https://firstpres-charlotte.org/wp-content/uploads/2026/02/RainForest-HD-Title-Slide-1920x1080-.jpg
ORGANIZER;CN="Children's Ministry":MAILTO:kharder@firstpres-charlotte.org
END:VEVENT
END:VCALENDAR