BEGIN:VCALENDAR
VERSION:2.0
PRODID:-//First Presbyterian Charlotte - ECPv6.15.20//NONSGML v1.0//EN
CALSCALE:GREGORIAN
METHOD:PUBLISH
X-WR-CALNAME:First Presbyterian Charlotte
X-ORIGINAL-URL:https://firstpres-charlotte.org
X-WR-CALDESC:Events for First Presbyterian Charlotte
REFRESH-INTERVAL;VALUE=DURATION:PT1H
X-Robots-Tag:noindex
X-PUBLISHED-TTL:PT1H
BEGIN:VTIMEZONE
TZID:America/New_York
BEGIN:DAYLIGHT
TZOFFSETFROM:-0500
TZOFFSETTO:-0400
TZNAME:EDT
DTSTART:20250309T070000
END:DAYLIGHT
BEGIN:STANDARD
TZOFFSETFROM:-0400
TZOFFSETTO:-0500
TZNAME:EST
DTSTART:20251102T060000
END:STANDARD
BEGIN:DAYLIGHT
TZOFFSETFROM:-0500
TZOFFSETTO:-0400
TZNAME:EDT
DTSTART:20260308T070000
END:DAYLIGHT
BEGIN:STANDARD
TZOFFSETFROM:-0400
TZOFFSETTO:-0500
TZNAME:EST
DTSTART:20261101T060000
END:STANDARD
BEGIN:DAYLIGHT
TZOFFSETFROM:-0500
TZOFFSETTO:-0400
TZNAME:EDT
DTSTART:20270314T070000
END:DAYLIGHT
BEGIN:STANDARD
TZOFFSETFROM:-0400
TZOFFSETTO:-0500
TZNAME:EST
DTSTART:20271107T060000
END:STANDARD
END:VTIMEZONE
BEGIN:VEVENT
DTSTART;TZID=America/New_York:20260419T094500
DTEND;TZID=America/New_York:20260419T104500
DTSTAMP:20260424T051914
CREATED:20260106T193825Z
LAST-MODIFIED:20260106T193825Z
UID:72633-1776591900-1776595500@firstpres-charlotte.org
SUMMARY:Youth Sunday School
DESCRIPTION:
URL:https://firstpres-charlotte.org/events/youth-sunday-school-13/
LOCATION:First Presbyterian Church\, 200 W Trade St\, Charlotte\, NC\, 28202\, United States
CATEGORIES:Youth
ATTACH;FMTTYPE=image/png:https://firstpres-charlotte.org/wp-content/uploads/2026/01/Youth-Sunday-School-Logo.png
ORGANIZER;CN="Kelly Harder":MAILTO:kharder@firstpres-charlotte.org
END:VEVENT
BEGIN:VEVENT
DTSTART;TZID=America/New_York:20260412T121500
DTEND;TZID=America/New_York:20260412T133000
DTSTAMP:20260424T051914
CREATED:20260129T193959Z
LAST-MODIFIED:20260224T160328Z
UID:72778-1775996100-1776000600@firstpres-charlotte.org
SUMMARY:A Binding Truth
DESCRIPTION:Join us for a PBS-highlighted documentary about two Myers Park High School students who uncovered a shocking revelation about slave ownership and embarked on a journey of healing and restoration. The featured pair will be with us for a discussion following the film. All ages welcome! \nA complimentary lunch will be served.
URL:https://firstpres-charlotte.org/events/a-binding-truth/
LOCATION:Wood Fellowship Hall
CATEGORIES:Advocacy,Churchwide,Featured
ATTACH;FMTTYPE=image/jpeg:https://firstpres-charlotte.org/wp-content/uploads/2026/01/A-Binding-Truth-PBS.jpeg
END:VEVENT
BEGIN:VEVENT
DTSTART;TZID=America/New_York:20260412T094500
DTEND;TZID=America/New_York:20260412T104500
DTSTAMP:20260424T051914
CREATED:20260106T193759Z
LAST-MODIFIED:20260106T193759Z
UID:72631-1775987100-1775990700@firstpres-charlotte.org
SUMMARY:Youth Sunday School
DESCRIPTION:
URL:https://firstpres-charlotte.org/events/youth-sunday-school-12/
LOCATION:First Presbyterian Church\, 200 W Trade St\, Charlotte\, NC\, 28202\, United States
CATEGORIES:Youth
ATTACH;FMTTYPE=image/png:https://firstpres-charlotte.org/wp-content/uploads/2026/01/Youth-Sunday-School-Logo.png
ORGANIZER;CN="Kelly Harder":MAILTO:kharder@firstpres-charlotte.org
END:VEVENT
BEGIN:VEVENT
DTSTART;TZID=America/New_York:20260405T110000
DTEND;TZID=America/New_York:20260405T120000
DTSTAMP:20260424T051914
CREATED:20260216T165625Z
LAST-MODIFIED:20260319T172639Z
UID:72920-1775386800-1775390400@firstpres-charlotte.org
SUMMARY:Easter Sunday Traditional Service
DESCRIPTION:Celebrate Easter with Traditional worship services at 9 and 11 a.m. This Easter\, our special offering will support Crisis Assistance Ministry’s Eviction Prevention Program\, helping keep Charlotte neighbors in their homes during times of financial crisis. By preventing eviction\, we can reduce homelessness and provide stability for families when they need it most. Together\, we have the opportunity to make a meaningful and lasting impact in our community. \nNotes about this service: This service will also be available on livestream and WAXN-Channel 64. We expect this service to be at capacity. If additional space is needed\, guests will be directed to overflow seating in the Chapel. \n👋 Are you new to FPC or planning to visit? Learn more about Sunday mornings or tell us you’re coming! \n🌸 Flowering of the Cross\nBring fresh flowers to place on the Easter Cross in our church driveway — a beautiful Easter tradition symbolizing resurrection and new beginnings. The cross also makes a wonderful backdrop for family Easter photos\, so be sure to capture the moment before or after worship! \n🚗 Parking Information\nFree parking is available in the lot next to the church (enter from Poplar Street). Get directions here. \n👶 Volunteers Needed: First ChurchWe will offer First Church programming during both the 9:00 and 11:00 a.m. services and need extra hands to help us welcome families. If you’re willing to serve\, please sign up here.
URL:https://firstpres-charlotte.org/events/easter-sunday-traditional-service-2/
LOCATION:First Presbyterian Church\, 200 W Trade St\, Charlotte\, NC\, 28202\, United States
CATEGORIES:Churchwide,Featured
ATTACH;FMTTYPE=image/jpeg:https://firstpres-charlotte.org/wp-content/uploads/2026/02/DSC04268-2-e1771260826548.jpg
END:VEVENT
BEGIN:VEVENT
DTSTART;TZID=America/New_York:20260405T100000
DTEND;TZID=America/New_York:20260405T104500
DTSTAMP:20260424T051914
CREATED:20260323T161408Z
LAST-MODIFIED:20260323T161408Z
UID:73569-1775383200-1775385900@firstpres-charlotte.org
SUMMARY:Operation Sandwich: Easter Edition
DESCRIPTION:Waiting in line for your Easter photo after the 9 a.m. service? Arriving early for that prime parking spot before the 11 a.m. service? Make your Easter morning even more meaningful! Stop by our Operation Sandwich tables on the front lawn and help us make sandwiches for Roof Above.
URL:https://firstpres-charlotte.org/events/operation-sandwich-easter-edition/
LOCATION:Front Lawn
CATEGORIES:Churchwide,Featured,Outreach
ATTACH;FMTTYPE=image/jpeg:https://firstpres-charlotte.org/wp-content/uploads/2026/03/IMG_2779-Lucy-scaled-e1774279213154.jpeg
ORGANIZER;CN="Flo Bryan":MAILTO:fbryan@firstpres-charlotte.org
END:VEVENT
BEGIN:VEVENT
DTSTART;TZID=America/New_York:20260405T090000
DTEND;TZID=America/New_York:20260405T100000
DTSTAMP:20260424T051914
CREATED:20260216T165403Z
LAST-MODIFIED:20260319T172721Z
UID:72917-1775379600-1775383200@firstpres-charlotte.org
SUMMARY:Easter Sunday Traditional Service
DESCRIPTION:Celebrate Easter with Traditional worship services at 9 and 11 a.m. This Easter\, our special offering will support Crisis Assistance Ministry’s Eviction Prevention Program\, helping keep Charlotte neighbors in their homes during times of financial crisis. By preventing eviction\, we can reduce homelessness and provide stability for families when they need it most. Together\, we have the opportunity to make a meaningful and lasting impact in our community. \nNotes about this service: There will be no Contemplative Service on Easter. \n👋 Are you new to FPC or planning to visit? Learn more about Sunday mornings or tell us you’re coming! \n🌸 Flowering of the Cross\nBring fresh flowers to place on the Easter Cross in our church driveway — a beautiful Easter tradition symbolizing resurrection and new beginnings. The cross also makes a wonderful backdrop for family Easter photos\, so be sure to capture the moment before or after worship! \n🚗 Parking Information\nFree parking is available in the lot next to the church (enter from Poplar Street). Get directions here. \n👶 Volunteers Needed: First ChurchWe will offer First Church programming during both the 9:00 and 11:00 a.m. services and need extra hands to help us welcome families. If you’re willing to serve\, please sign up here.
URL:https://firstpres-charlotte.org/events/easter-sunday-traditional-service/
LOCATION:First Presbyterian Church\, 200 W Trade St\, Charlotte\, NC\, 28202\, United States
CATEGORIES:Churchwide,Featured
ATTACH;FMTTYPE=image/jpeg:https://firstpres-charlotte.org/wp-content/uploads/2026/02/DSC04268-2-e1771260826548.jpg
END:VEVENT
BEGIN:VEVENT
DTSTART;TZID=America/New_York:20260402T193000
DTEND;TZID=America/New_York:20260402T203000
DTSTAMP:20260424T051914
CREATED:20260216T165014Z
LAST-MODIFIED:20260317T194645Z
UID:72913-1775158200-1775161800@firstpres-charlotte.org
SUMMARY:Maundy Thursday Tenebrae Service
DESCRIPTION:Most of us know how the story ends\, but we miss the journey. \nThe Maundy Thursday Tenebrae Service invites us to slow down and walk through the story before we celebrate the ending. The Last Supper shared between friends. The agony of a garden prayer. The weight of the cross. The darkness of the tomb. These aren’t detours on the way to Easter morning—they are the journey. And when you arrive at the Resurrection having traveled that journey\, it will mean something it never has before. \nThis Maundy Thursday service remembers the final hours of Jesus’ life through Scripture\, prayer\, music\, and the gradual dimming of light. Don’t simply skip to the ending. The whole story is worth it. \n🔗 This service will also be available on livestream: firstpres-charlotte.org/watch \n🚗 Free parking is available in the lot next to the church (enter from Poplar Street). \n👋 Are you new to FPC or planning to visit? Learn more about Sunday mornings or tell us you’re coming at fpc.tiny.us/new.
URL:https://firstpres-charlotte.org/events/maundy-thursday-tenebrae-service/
LOCATION:First Presbyterian Church\, 200 W Trade St\, Charlotte\, NC\, 28202\, United States
CATEGORIES:Churchwide,Featured
ATTACH;FMTTYPE=image/jpeg:https://firstpres-charlotte.org/wp-content/uploads/2026/02/DSC04006-2-scaled-e1771260582799.jpg
END:VEVENT
BEGIN:VEVENT
DTSTART;TZID=America/New_York:20260329T110000
DTEND;TZID=America/New_York:20260329T120000
DTSTAMP:20260424T051914
CREATED:20260220T155643Z
LAST-MODIFIED:20260304T190547Z
UID:73129-1774782000-1774785600@firstpres-charlotte.org
SUMMARY:Palm Sunday Processional
DESCRIPTION:The 11 a.m. service will open with a palm processional. All children and youth (birth through 18) are invited to take part in this meaningful tradition. \nProcessional Details: \n\n\nChildren and youth should meet in the Fellowship Hall at 10:40 a.m. to line up. \n\n\nFamilies are invited to attend the Children’s Musical at 10 a.m. in the Fellowship Hall and then stay afterward for the processional lineup. \n\n\nParents\, please remember to save pew space for your children (including choir members)\, as this will be a high-attendance Sunday. \n\n\nImportant Notes: \n\n\nChildren who are dropped off in the Fellowship Hall must be old enough and comfortable walking down the aisle independently. \n\n\nParents of toddlers and younger children are encouraged to walk with them during the processional. \n\n\nWe can’t wait to see palms waving and children leading us into worship as we remember Jesus’ triumphant entry into Jerusalem.
URL:https://firstpres-charlotte.org/events/palm-sunday/
LOCATION:Sanctuary
CATEGORIES:Children,Churchwide,Featured,Youth
ATTACH;FMTTYPE=image/jpeg:https://firstpres-charlotte.org/wp-content/uploads/2026/02/DSC09943-small-e1771602811236.jpg
END:VEVENT
BEGIN:VEVENT
DTSTART;TZID=America/New_York:20260329T100000
DTEND;TZID=America/New_York:20260329T104000
DTSTAMP:20260424T051914
CREATED:20260304T203548Z
LAST-MODIFIED:20260317T132429Z
UID:73344-1774778400-1774780800@firstpres-charlotte.org
SUMMARY:Rescue in the Night: A Kirk Choir Musical
DESCRIPTION:The Kirk Choir presents “Rescue in the Night”\, the story of Daniel and the Lions’ Den in musical form. Everyone is invited to attend the musical\, which will take place on Palm Sunday. \nFollowing the musical\, children and youth will be invited to line up to participate in the Palm Processional at the beginning of the 11 a.m. service.
URL:https://firstpres-charlotte.org/events/rescue-in-the-night-a-kirk-choir-musical/
LOCATION:Wood Fellowship Hall
CATEGORIES:Children,Churchwide,Featured
ATTACH;FMTTYPE=image/jpeg:https://firstpres-charlotte.org/wp-content/uploads/2026/03/Childrens-Musical-_Rescue-in-the-Night_-Event-Design_High-Definition-Title-Slide-1920x1080-1.jpg
END:VEVENT
BEGIN:VEVENT
DTSTART;TZID=America/New_York:20260327T163000
DTEND;TZID=America/New_York:20260327T183000
DTSTAMP:20260424T051914
CREATED:20260227T174801Z
LAST-MODIFIED:20260310T174526Z
UID:73220-1774629000-1774636200@firstpres-charlotte.org
SUMMARY:Great Big Egg Hunt
DESCRIPTION:Mark your calendars for our Great Big Egg Hunt on March 27 at 4:30 p.m. on the front lawn! Children ages birth to 5th grade are invited for eggs\, pizza\, and springtime fun on the front lawn. We are celebrating and sharing God’s great big love\, and we ask every family to bring a stuffed bunny or Easter candy to share with our local food pantry so we can pass that joy forward to our neighbors in need. \nWe’ll provide pizza. Bring your own basket and get ready to hunt! \nWe also need volunteers to help make this event a success. Click here to volunteer.
URL:https://firstpres-charlotte.org/events/great-big-egg-hunt/
LOCATION:Front Lawn
CATEGORIES:Children,Churchwide,Featured
ATTACH;FMTTYPE=image/png:https://firstpres-charlotte.org/wp-content/uploads/2026/02/Egg-Hunt-HD-Title-Slide-Blank.png
ORGANIZER;CN="Children's Ministry":MAILTO:kharder@firstpres-charlotte.org
END:VEVENT
END:VCALENDAR