BEGIN:VCALENDAR
VERSION:2.0
PRODID:-//First Presbyterian Charlotte - ECPv6.15.20//NONSGML v1.0//EN
CALSCALE:GREGORIAN
METHOD:PUBLISH
X-ORIGINAL-URL:https://firstpres-charlotte.org
X-WR-CALDESC:Events for First Presbyterian Charlotte
REFRESH-INTERVAL;VALUE=DURATION:PT1H
X-Robots-Tag:noindex
X-PUBLISHED-TTL:PT1H
BEGIN:VTIMEZONE
TZID:America/New_York
BEGIN:DAYLIGHT
TZOFFSETFROM:-0500
TZOFFSETTO:-0400
TZNAME:EDT
DTSTART:20250309T070000
END:DAYLIGHT
BEGIN:STANDARD
TZOFFSETFROM:-0400
TZOFFSETTO:-0500
TZNAME:EST
DTSTART:20251102T060000
END:STANDARD
BEGIN:DAYLIGHT
TZOFFSETFROM:-0500
TZOFFSETTO:-0400
TZNAME:EDT
DTSTART:20260308T070000
END:DAYLIGHT
BEGIN:STANDARD
TZOFFSETFROM:-0400
TZOFFSETTO:-0500
TZNAME:EST
DTSTART:20261101T060000
END:STANDARD
BEGIN:DAYLIGHT
TZOFFSETFROM:-0500
TZOFFSETTO:-0400
TZNAME:EDT
DTSTART:20270314T070000
END:DAYLIGHT
BEGIN:STANDARD
TZOFFSETFROM:-0400
TZOFFSETTO:-0500
TZNAME:EST
DTSTART:20271107T060000
END:STANDARD
END:VTIMEZONE
BEGIN:VEVENT
DTSTART;TZID=America/New_York:20260426T110000
DTEND;TZID=America/New_York:20260426T120000
DTSTAMP:20260424T052200
CREATED:20260416T012618Z
LAST-MODIFIED:20260416T012712Z
UID:73747-1777201200-1777204800@firstpres-charlotte.org
SUMMARY:Youth Sunday
DESCRIPTION:On Youth Sunday\, our youth will lead the 11 a.m. worship service\, exploring what it looks like to choose love every time\, especially when it’s hard. \nWe will also recognize four youth who have proclaimed their faith and chosen to become members of the church!
URL:https://firstpres-charlotte.org/events/youth-sunday/
LOCATION:Sanctuary
CATEGORIES:Churchwide,Featured,Youth
ATTACH;FMTTYPE=image/png:https://firstpres-charlotte.org/wp-content/uploads/2026/04/Youth-Sunday-2026-Flatscreen.png
END:VEVENT
END:VCALENDAR