BEGIN:VCALENDAR
VERSION:2.0
PRODID:-//First Presbyterian Charlotte - ECPv6.15.20//NONSGML v1.0//EN
CALSCALE:GREGORIAN
METHOD:PUBLISH
X-WR-CALNAME:First Presbyterian Charlotte
X-ORIGINAL-URL:https://firstpres-charlotte.org
X-WR-CALDESC:Events for First Presbyterian Charlotte
REFRESH-INTERVAL;VALUE=DURATION:PT1H
X-Robots-Tag:noindex
X-PUBLISHED-TTL:PT1H
BEGIN:VTIMEZONE
TZID:America/New_York
BEGIN:DAYLIGHT
TZOFFSETFROM:-0500
TZOFFSETTO:-0400
TZNAME:EDT
DTSTART:20250309T070000
END:DAYLIGHT
BEGIN:STANDARD
TZOFFSETFROM:-0400
TZOFFSETTO:-0500
TZNAME:EST
DTSTART:20251102T060000
END:STANDARD
BEGIN:DAYLIGHT
TZOFFSETFROM:-0500
TZOFFSETTO:-0400
TZNAME:EDT
DTSTART:20260308T070000
END:DAYLIGHT
BEGIN:STANDARD
TZOFFSETFROM:-0400
TZOFFSETTO:-0500
TZNAME:EST
DTSTART:20261101T060000
END:STANDARD
BEGIN:DAYLIGHT
TZOFFSETFROM:-0500
TZOFFSETTO:-0400
TZNAME:EDT
DTSTART:20270314T070000
END:DAYLIGHT
BEGIN:STANDARD
TZOFFSETFROM:-0400
TZOFFSETTO:-0500
TZNAME:EST
DTSTART:20271107T060000
END:STANDARD
END:VTIMEZONE
BEGIN:VEVENT
DTSTART;TZID=America/New_York:20260412T094500
DTEND;TZID=America/New_York:20260412T104500
DTSTAMP:20260424T064304
CREATED:20260106T193759Z
LAST-MODIFIED:20260106T193759Z
UID:72631-1775987100-1775990700@firstpres-charlotte.org
SUMMARY:Youth Sunday School
DESCRIPTION:
URL:https://firstpres-charlotte.org/events/youth-sunday-school-12/
LOCATION:First Presbyterian Church\, 200 W Trade St\, Charlotte\, NC\, 28202\, United States
CATEGORIES:Youth
ATTACH;FMTTYPE=image/png:https://firstpres-charlotte.org/wp-content/uploads/2026/01/Youth-Sunday-School-Logo.png
ORGANIZER;CN="Kelly Harder":MAILTO:kharder@firstpres-charlotte.org
END:VEVENT
END:VCALENDAR